BEGIN:VCALENDAR
VERSION:2.0
PRODID:SchoolNow
CALSCALE:GREGORIAN
BEGIN:VEVENT
UID:e81126c4-a2ea-11f0-970e-0a58a9feac02
DTSTAMP:20260424T160549Z
SUMMARY:6th Grade Field Trip
LOCATION:Medieval Times Dinner & Tournament\, 2001 N Roselle Rd\, Schaumbur
 g\, IL 60195\, USA
URL;VALUE=URI:https://www.dg58.org/hl/calendar/8699954/6th-grade-field-trip
DTSTART:20260528T144500Z
DTEND:20260528T184500Z
END:VEVENT
END:VCALENDAR
