BEGIN:VCALENDAR
VERSION:2.0
PRODID:SchoolNow
CALSCALE:GREGORIAN
BEGIN:VEVENT
UID:9511afb6-82a6-11f0-87e4-02dbc551087d
DTSTAMP:20260424T160549Z
SUMMARY:Bricks 4 Kidz - Lego STEM
URL;VALUE=URI:https://www.dg58.org/hl/calendar/8546040/bricks-4-kidz-lego-s
 tem
DTSTART:20260303T210000Z
DTEND:20260303T220000Z
END:VEVENT
END:VCALENDAR
