BEGIN:VCALENDAR
VERSION:2.0
PRODID:SchoolNow
CALSCALE:GREGORIAN
BEGIN:VEVENT
UID:9511aed0-82a6-11f0-952a-02dbc551087d
DTSTAMP:20260424T160549Z
SUMMARY:Bricks 4 Kidz - Lego STEM
URL;VALUE=URI:https://www.dg58.org/hl/calendar/8546039/bricks-4-kidz-lego-s
 tem
DTSTART:20260224T210000Z
DTEND:20260224T220000Z
END:VEVENT
END:VCALENDAR
