BEGIN:VCALENDAR
VERSION:2.0
PRODID:SchoolNow
CALSCALE:GREGORIAN
BEGIN:VEVENT
UID:9511ad18-82a6-11f0-99d3-02dbc551087d
DTSTAMP:20260424T160549Z
SUMMARY:Bricks 4 Kidz - Lego STEM
URL;VALUE=URI:https://www.dg58.org/hl/calendar/8546037/bricks-4-kidz-lego-s
 tem
DTSTART:20260210T210000Z
DTEND:20260210T220000Z
END:VEVENT
END:VCALENDAR
