BEGIN:VCALENDAR
VERSION:2.0
PRODID:SchoolNow
CALSCALE:GREGORIAN
BEGIN:VEVENT
UID:f88189fa-7c79-11f0-a0d5-0a58a9feac02
DTSTAMP:20260424T160549Z
SUMMARY:Bingo Night
URL;VALUE=URI:https://www.dg58.org/hl/calendar/8519556/bingo-night
DTSTART:20260326T231500Z
DTEND:20260327T010000Z
END:VEVENT
END:VCALENDAR
