BEGIN:VCALENDAR
VERSION:2.0
PRODID:SchoolNow
CALSCALE:GREGORIAN
BEGIN:VEVENT
UID:f881890a-7c79-11f0-a78b-0a58a9feac02
DTSTAMP:20260424T160549Z
SUMMARY:PIG Tournament
URL;VALUE=URI:https://www.dg58.org/hl/calendar/8519555/pig-tournament
DTSTART:20260308T170000Z
DTEND:20260308T210000Z
END:VEVENT
END:VCALENDAR
