BEGIN:VCALENDAR
VERSION:2.0
PRODID:SchoolNow
CALSCALE:GREGORIAN
BEGIN:VEVENT
UID:f8818824-7c79-11f0-890c-0a58a9feac02
DTSTAMP:20260424T160549Z
SUMMARY:Family Board Game Night
URL;VALUE=URI:https://www.dg58.org/hl/calendar/8519554/family-board-game-ni
 ght
DTSTART:20260227T000000Z
DTEND:20260227T020000Z
END:VEVENT
END:VCALENDAR
