BEGIN:VCALENDAR
VERSION:2.0
PRODID:SchoolNow
CALSCALE:GREGORIAN
BEGIN:VEVENT
UID:f881872a-7c79-11f0-9b67-0a58a9feac02
DTSTAMP:20260424T160549Z
SUMMARY:Family Sock Hop
URL;VALUE=URI:https://www.dg58.org/hl/calendar/8519553/family-sock-hop
DTSTART:20260131T000000Z
DTEND:20260131T020000Z
END:VEVENT
END:VCALENDAR
