BEGIN:VCALENDAR
VERSION:2.0
PRODID:SchoolNow
CALSCALE:GREGORIAN
BEGIN:VEVENT
UID:345597e0-77b2-11f0-bb98-0e70e7511439
DTSTAMP:20260424T160549Z
SUMMARY:Sticky Fingers - Lounge
URL;VALUE=URI:https://www.dg58.org/hl/calendar/8495139/sticky-fingers-loung
 e
DTSTART:20260526T201000Z
DTEND:20260526T211000Z
END:VEVENT
END:VCALENDAR
