BEGIN:VCALENDAR
VERSION:2.0
PRODID:SchoolNow
CALSCALE:GREGORIAN
BEGIN:VEVENT
UID:3455961e-77b2-11f0-a47d-0e70e7511439
DTSTAMP:20260424T160549Z
SUMMARY:Sticky Fingers - Lounge
URL;VALUE=URI:https://www.dg58.org/hl/calendar/8495137/sticky-fingers-loung
 e
DTSTART:20260512T201000Z
DTEND:20260512T211000Z
END:VEVENT
END:VCALENDAR
