BEGIN:VCALENDAR
VERSION:2.0
PRODID:SchoolNow
CALSCALE:GREGORIAN
BEGIN:VEVENT
UID:345591be-77b2-11f0-9baa-0e70e7511439
DTSTAMP:20260424T100046Z
SUMMARY:Sticky Fingers - Lounge
URL;VALUE=URI:https://www.dg58.org/hl/calendar/8495130/sticky-fingers-loung
 e
DTSTART:20260407T201000Z
DTEND:20260407T211000Z
END:VEVENT
END:VCALENDAR
