BEGIN:VCALENDAR
VERSION:2.0
PRODID:SchoolNow
CALSCALE:GREGORIAN
BEGIN:VEVENT
UID:34558e3a-77b2-11f0-a42c-0e70e7511439
DTSTAMP:20260424T160549Z
SUMMARY:Sticky Fingers - Lounge
URL;VALUE=URI:https://www.dg58.org/hl/calendar/8495126/sticky-fingers-loung
 e
DTSTART:20260224T211000Z
DTEND:20260224T221000Z
END:VEVENT
END:VCALENDAR
