BEGIN:VCALENDAR
VERSION:2.0
PRODID:SchoolNow
CALSCALE:GREGORIAN
BEGIN:VEVENT
UID:34558d5e-77b2-11f0-a5ec-0e70e7511439
DTSTAMP:20260424T160549Z
SUMMARY:Sticky Fingers - Lounge
URL;VALUE=URI:https://www.dg58.org/hl/calendar/8495125/sticky-fingers-loung
 e
DTSTART:20260217T211000Z
DTEND:20260217T221000Z
END:VEVENT
END:VCALENDAR
