BEGIN:VCALENDAR
VERSION:2.0
PRODID:SchoolNow
CALSCALE:GREGORIAN
BEGIN:VEVENT
UID:75906d92-72ea-11f0-885c-02a736722745
DTSTAMP:20260424T160549Z
SUMMARY:Bricks 4 Kidz - Lego ROBOTICS
URL;VALUE=URI:https://www.dg58.org/hl/calendar/8476632/bricks-4-kidz-lego-r
 obotics
DTSTART:20260205T210000Z
DTEND:20260205T220000Z
END:VEVENT
END:VCALENDAR
