BEGIN:VCALENDAR
VERSION:2.0
PRODID:SchoolNow
CALSCALE:GREGORIAN
BEGIN:VEVENT
UID:75906ae0-72ea-11f0-a3fb-02a736722745
DTSTAMP:20260424T160549Z
SUMMARY:Bricks 4 Kidz - Lego ROBOTICS
URL;VALUE=URI:https://www.dg58.org/hl/calendar/8476629/bricks-4-kidz-lego-r
 obotics
DTSTART:20260115T210000Z
DTEND:20260115T220000Z
END:VEVENT
END:VCALENDAR
