BEGIN:VCALENDAR
VERSION:2.0
PRODID:SchoolNow
CALSCALE:GREGORIAN
BEGIN:VEVENT
UID:7569a0ae-72ea-11f0-86b2-02a736722745
DTSTAMP:20260425T102040Z
SUMMARY:World Down Syndrome Awareness Day- Rock your socks!
URL;VALUE=URI:https://www.dg58.org/hl/calendar/8476614/world-down-syndrome-
 awareness-day-rock-your-socks
DTSTART;VALUE=DATE:20270321
DTEND;VALUE=DATE:20270322
END:VEVENT
END:VCALENDAR
