BEGIN:VCALENDAR
VERSION:2.0
PRODID:SchoolNow
CALSCALE:GREGORIAN
BEGIN:VEVENT
UID:7f696c66-365d-11f0-8bc1-0a58a9feac02
DTSTAMP:20260422T152542Z
SUMMARY:Chess Club - LRC
URL;VALUE=URI:https://www.dg58.org/hl/calendar/8175017/chess-club-lrc
DTSTART:20260422T200000Z
DTEND:20260422T210000Z
END:VEVENT
END:VCALENDAR
