BEGIN:VCALENDAR
VERSION:2.0
PRODID:SchoolNow
CALSCALE:GREGORIAN
BEGIN:VEVENT
UID:7f696b8a-365d-11f0-bdf7-0a58a9feac02
DTSTAMP:20260424T100046Z
SUMMARY:Chess Club - LRC
URL;VALUE=URI:https://www.dg58.org/hl/calendar/8175016/chess-club-lrc
DTSTART:20260415T200000Z
DTEND:20260415T210000Z
END:VEVENT
END:VCALENDAR
