BEGIN:VCALENDAR
VERSION:2.0
PRODID:SchoolNow
CALSCALE:GREGORIAN
BEGIN:VEVENT
UID:7f6969dc-365d-11f0-aa79-0a58a9feac02
DTSTAMP:20260424T160549Z
SUMMARY:Chess Club - LRC
URL;VALUE=URI:https://www.dg58.org/hl/calendar/8175014/chess-club-lrc
DTSTART:20260318T200000Z
DTEND:20260318T210000Z
END:VEVENT
END:VCALENDAR
