BEGIN:VCALENDAR
VERSION:2.0
PRODID:SchoolNow
CALSCALE:GREGORIAN
BEGIN:VEVENT
UID:7f696824-365d-11f0-bc65-0a58a9feac02
DTSTAMP:20260424T160549Z
SUMMARY:Chess Club - LRC
URL;VALUE=URI:https://www.dg58.org/hl/calendar/8175012/chess-club-lrc
DTSTART:20260304T210000Z
DTEND:20260304T220000Z
END:VEVENT
END:VCALENDAR
