BEGIN:VCALENDAR
VERSION:2.0
PRODID:SchoolNow
CALSCALE:GREGORIAN
BEGIN:VEVENT
UID:7f696310-365d-11f0-86d7-0a58a9feac02
DTSTAMP:20260424T160549Z
SUMMARY:Chess Club - LRC
URL;VALUE=URI:https://www.dg58.org/hl/calendar/8175006/chess-club-lrc
DTSTART:20260121T210000Z
DTEND:20260121T220000Z
END:VEVENT
END:VCALENDAR
