BEGIN:VCALENDAR
VERSION:2.0
PRODID:SchoolNow
CALSCALE:GREGORIAN
BEGIN:VEVENT
UID:ba001840-4eb2-11ef-bd8b-0233b2518217
DTSTAMP:20260424T160549Z
SUMMARY:World Down Syndrome Awareness Day- Rock your socks!
URL;VALUE=URI:https://www.dg58.org/hl/calendar/6331042/world-down-syndrome-
 awareness-day-rock-your-socks
DTSTART;VALUE=DATE:20260321
DTEND;VALUE=DATE:20260322
END:VEVENT
END:VCALENDAR
