BEGIN:VCALENDAR
VERSION:2.0
PRODID:SchoolNow
CALSCALE:GREGORIAN
BEGIN:VEVENT
UID:6923a334-d6cd-11f0-9201-02aabd547de9
DTSTAMP:20251216T154516Z
SUMMARY:Legislative Breakfast (alternative date)
LOCATION:Herrick Middle School\, 4435 Middaugh Ave\, Downers Grove\, IL 605
 15\, USA
URL;VALUE=URI:https://www.dg58.org/he/calendar/8822266/legislative-breakfas
 t-alternative-date
DTSTART:20260220T130000Z
DTEND:20260220T150000Z
END:VEVENT
END:VCALENDAR
