BEGIN:VCALENDAR
VERSION:2.0
PRODID:SchoolNow
CALSCALE:GREGORIAN
BEGIN:VEVENT
UID:68c6e02c-d6cd-11f0-bb66-02aabd547de9
DTSTAMP:20251216T154516Z
SUMMARY:Legislative Breakfast
LOCATION:Herrick Middle School\, 4435 Middaugh Ave\, Downers Grove\, IL 605
 15\, USA
URL;VALUE=URI:https://www.dg58.org/he/calendar/8822265/legislative-breakfas
 t
DTSTART:20260123T130000Z
DTEND:20260123T150000Z
END:VEVENT
END:VCALENDAR
