BEGIN:VCALENDAR
VERSION:2.0
PRODID:SchoolNow
CALSCALE:GREGORIAN
BEGIN:VEVENT
UID:14ef6650-c975-11f0-b549-0afff02f8c8b
DTSTAMP:20251216T154516Z
SUMMARY:Wrestling Meet @ home Comp gym
URL;VALUE=URI:https://www.dg58.org/he/calendar/8809155/wrestling-meet-home-
 comp-gym
DTSTART:20260115T221500Z
DTEND:20260116T020000Z
END:VEVENT
END:VCALENDAR
