BEGIN:VCALENDAR
VERSION:2.0
PRODID:SchoolNow
CALSCALE:GREGORIAN
BEGIN:VEVENT
UID:34f30ddc-c711-11f0-a125-02f2a7e71afd
DTSTAMP:20251216T154516Z
SUMMARY:Girls VBall Tryouts - 7th grade - Main Gym
URL;VALUE=URI:https://www.dg58.org/he/calendar/8807514/girls-vball-tryouts-
 7th-grade-main-gym
DTSTART:20260109T123000Z
DTEND:20260109T140000Z
END:VEVENT
END:VCALENDAR
