BEGIN:VCALENDAR
VERSION:2.0
PRODID:SchoolNow
CALSCALE:GREGORIAN
BEGIN:VEVENT
UID:348d4e66-c711-11f0-aa26-02f2a7e71afd
DTSTAMP:20251216T154516Z
SUMMARY:Girls VBall Tryouts - 7th grade - Main Gym
URL;VALUE=URI:https://www.dg58.org/he/calendar/8807513/girls-vball-tryouts-
 7th-grade-main-gym
DTSTART:20260115T123000Z
DTEND:20260115T140000Z
END:VEVENT
END:VCALENDAR
