BEGIN:VCALENDAR
VERSION:2.0
PRODID:SchoolNow
CALSCALE:GREGORIAN
BEGIN:VEVENT
UID:348d4cfe-c711-11f0-9b5d-02f2a7e71afd
DTSTAMP:20251216T154516Z
SUMMARY:Girls VBall Tryouts - 8th grade - Main Gym
URL;VALUE=URI:https://www.dg58.org/he/calendar/8807512/girls-vball-tryouts-
 8th-grade-main-gym
DTSTART:20260108T123000Z
DTEND:20260108T140000Z
END:VEVENT
END:VCALENDAR
