BEGIN:VCALENDAR
VERSION:2.0
PRODID:SchoolNow
CALSCALE:GREGORIAN
BEGIN:VEVENT
UID:348d493e-c711-11f0-b76f-02f2a7e71afd
DTSTAMP:20251216T154516Z
SUMMARY:Girls VBall Tryouts - 8th grade - Main Gym
URL;VALUE=URI:https://www.dg58.org/he/calendar/8807510/girls-vball-tryouts-
 8th-grade-main-gym
DTSTART:20260107T213000Z
DTEND:20260107T230000Z
END:VEVENT
END:VCALENDAR
