BEGIN:VCALENDAR
VERSION:2.0
PRODID:SchoolNow
CALSCALE:GREGORIAN
BEGIN:VEVENT
UID:348d4498-c711-11f0-9ed6-02f2a7e71afd
DTSTAMP:20251216T154516Z
SUMMARY:Girls VBall Tryouts - 8th grade - Main Gym
URL;VALUE=URI:https://www.dg58.org/he/calendar/8807509/girls-vball-tryouts-
 8th-grade-main-gym
DTSTART:20260112T220000Z
DTEND:20260112T233000Z
END:VEVENT
END:VCALENDAR
