BEGIN:VCALENDAR
VERSION:2.0
PRODID:SchoolNow
CALSCALE:GREGORIAN
BEGIN:VEVENT
UID:5b49886c-c414-11f0-93ef-0a58a9feac02
DTSTAMP:20251216T154516Z
SUMMARY:Emergency Days (Students 6/8-612)
URL;VALUE=URI:https://www.dg58.org/he/calendar/8800544/emergency-days-stude
 nts-6-8-612
DTSTART;VALUE=DATE:20260608
DTEND;VALUE=DATE:20260613
END:VEVENT
END:VCALENDAR
