BEGIN:VCALENDAR
VERSION:2.0
PRODID:SchoolNow
CALSCALE:GREGORIAN
BEGIN:VEVENT
UID:5afb8e0a-c414-11f0-b320-0a58a9feac02
DTSTAMP:20251216T154516Z
SUMMARY:Last Day of School (if no Emergency Days Used) 1/2 day student atte
 ndance
URL;VALUE=URI:https://www.dg58.org/he/calendar/8800534/last-day-of-school-i
 f-no-emergency-days-used-1-2-day-student-attendance
DTSTART:20260605T133000Z
DTEND:20260605T170000Z
END:VEVENT
END:VCALENDAR
