BEGIN:VCALENDAR
VERSION:2.0
PRODID:SchoolNow
CALSCALE:GREGORIAN
BEGIN:VEVENT
UID:5afb87a2-c414-11f0-b857-0a58a9feac02
DTSTAMP:20251216T154516Z
SUMMARY:Emergency Days (Staff 6/10-6/15)
URL;VALUE=URI:https://www.dg58.org/he/calendar/8800533/emergency-days-staff
 -6-10-6-15
DTSTART;VALUE=DATE:20260610
DTEND;VALUE=DATE:20260616
END:VEVENT
END:VCALENDAR
