BEGIN:VCALENDAR
VERSION:2.0
PRODID:SchoolNow
CALSCALE:GREGORIAN
BEGIN:VEVENT
UID:d81f0b9e-ba84-11f0-acec-0a58a9feac02
DTSTAMP:20251216T154516Z
SUMMARY:Environmental Club - Room 073
URL;VALUE=URI:https://www.dg58.org/he/calendar/8779297/environmental-club-r
 oom-073
DTSTART:20260408T202000Z
DTEND:20260408T210000Z
END:VEVENT
END:VCALENDAR
