BEGIN:VCALENDAR
VERSION:2.0
PRODID:SchoolNow
CALSCALE:GREGORIAN
BEGIN:VEVENT
UID:d81f0996-ba84-11f0-9fa8-0a58a9feac02
DTSTAMP:20251216T154516Z
SUMMARY:Environmental Club - Room 073
URL;VALUE=URI:https://www.dg58.org/he/calendar/8779295/environmental-club-r
 oom-073
DTSTART:20260304T212000Z
DTEND:20260304T220000Z
END:VEVENT
END:VCALENDAR
