BEGIN:VCALENDAR
VERSION:2.0
PRODID:SchoolNow
CALSCALE:GREGORIAN
BEGIN:VEVENT
UID:e2b905c2-b9b8-11f0-aa7c-0a58a9feac02
DTSTAMP:20251216T154516Z
SUMMARY:Girls Basketball Game @ Home Vs Old Quarry
LOCATION:Home (Competition Gym)
URL;VALUE=URI:https://www.dg58.org/he/calendar/8777077/girls-basketball-gam
 e-home-vs-old-quarry
DTSTART:20251113T221500Z
DTEND:20251114T001500Z
END:VEVENT
END:VCALENDAR
