BEGIN:VCALENDAR
VERSION:2.0
PRODID:SchoolNow
CALSCALE:GREGORIAN
BEGIN:VEVENT
UID:e2b8ffdc-b9b8-11f0-af51-0a58a9feac02
DTSTAMP:20251216T154516Z
SUMMARY:Girls Basketball Game @ Westview Hills
LOCATION:Westview Hills
URL;VALUE=URI:https://www.dg58.org/he/calendar/8777076/girls-basketball-gam
 e-westview-hills
DTSTART:20251104T221500Z
DTEND:20251105T001500Z
END:VEVENT
END:VCALENDAR
