BEGIN:VCALENDAR
VERSION:2.0
PRODID:SchoolNow
CALSCALE:GREGORIAN
BEGIN:VEVENT
UID:e2540ece-b9b8-11f0-97cd-0a58a9feac02
DTSTAMP:20251216T154516Z
SUMMARY:Girls BBall Game @ Herrick vs South MS - competition gym (new) 7th 
 gr first
URL;VALUE=URI:https://www.dg58.org/he/calendar/8777075/girls-bball-game-her
 rick-vs-south-ms-competition-gym-new-7th-gr-first
DTSTART:20251110T221500Z
DTEND:20251111T001500Z
END:VEVENT
END:VCALENDAR
