BEGIN:VCALENDAR
VERSION:2.0
PRODID:SchoolNow
CALSCALE:GREGORIAN
BEGIN:VEVENT
UID:e25409e2-b9b8-11f0-bb72-0a58a9feac02
DTSTAMP:20251216T154516Z
SUMMARY:Girls BBall game @ Herrick vs Bryan MS - Competition gym (new) 7th 
 gr first
URL;VALUE=URI:https://www.dg58.org/he/calendar/8777074/girls-bball-game-her
 rick-vs-bryan-ms-competition-gym-new-7th-gr-first
DTSTART:20251111T221500Z
DTEND:20251112T001500Z
END:VEVENT
END:VCALENDAR
