BEGIN:VCALENDAR
VERSION:2.0
PRODID:SchoolNow
CALSCALE:GREGORIAN
BEGIN:VEVENT
UID:0963fc1e-b689-11f0-9a38-0a58a9feac02
DTSTAMP:20251216T154516Z
SUMMARY:Cheerleading - Aux gym
URL;VALUE=URI:https://www.dg58.org/he/calendar/8765379/cheerleading-aux-gym
DTSTART:20251106T213000Z
DTEND:20251106T230000Z
END:VEVENT
END:VCALENDAR
