BEGIN:VCALENDAR
VERSION:2.0
PRODID:SchoolNow
CALSCALE:GREGORIAN
BEGIN:VEVENT
UID:0963f7b4-b689-11f0-9232-0a58a9feac02
DTSTAMP:20251216T154516Z
SUMMARY:Cheerleading - Aux gym
URL;VALUE=URI:https://www.dg58.org/he/calendar/8765377/cheerleading-aux-gym
DTSTART:20251103T130000Z
DTEND:20251103T140000Z
END:VEVENT
END:VCALENDAR
