BEGIN:VCALENDAR
VERSION:2.0
PRODID:SchoolNow
CALSCALE:GREGORIAN
BEGIN:VEVENT
UID:80b1ed56-aae2-11f0-8d8d-02b565b2c113
DTSTAMP:20251216T154516Z
SUMMARY:Cheer Formal Tryouts - Aux gym
URL;VALUE=URI:https://www.dg58.org/he/calendar/8727794/cheer-formal-tryouts
 -aux-gym
DTSTART:20251022T203000Z
DTEND:20251022T220000Z
END:VEVENT
END:VCALENDAR
