BEGIN:VCALENDAR
VERSION:2.0
PRODID:SchoolNow
CALSCALE:GREGORIAN
BEGIN:VEVENT
UID:80b1ec2a-aae2-11f0-8487-02b565b2c113
DTSTAMP:20251216T154516Z
SUMMARY:Cheer Tryout Workshop #2 - Aux Gym
URL;VALUE=URI:https://www.dg58.org/he/calendar/8727793/cheer-tryout-worksho
 p-2-aux-gym
DTSTART:20251021T203000Z
DTEND:20251021T213000Z
END:VEVENT
END:VCALENDAR
