BEGIN:VCALENDAR
VERSION:2.0
PRODID:SchoolNow
CALSCALE:GREGORIAN
BEGIN:VEVENT
UID:80b1e8a6-aae2-11f0-b2a9-02b565b2c113
DTSTAMP:20251216T154516Z
SUMMARY:Cheer Tryouts Workshop #1 - Main Gym
URL;VALUE=URI:https://www.dg58.org/he/calendar/8727792/cheer-tryouts-worksh
 op-1-main-gym
DTSTART:20251020T120000Z
DTEND:20251020T133000Z
END:VEVENT
END:VCALENDAR
