BEGIN:VCALENDAR
VERSION:2.0
PRODID:SchoolNow
CALSCALE:GREGORIAN
BEGIN:VEVENT
UID:86af52ee-aaaf-11f0-a4c3-0a58a9feac02
DTSTAMP:20251216T154516Z
SUMMARY:Anime/Drawing Club - Room 150
URL;VALUE=URI:https://www.dg58.org/he/calendar/8727009/anime-drawing-club-r
 oom-150
DTSTART:20260203T211700Z
DTEND:20260203T220000Z
END:VEVENT
END:VCALENDAR
