BEGIN:VCALENDAR
VERSION:2.0
PRODID:SchoolNow
CALSCALE:GREGORIAN
BEGIN:VEVENT
UID:86af4f2e-aaaf-11f0-b375-0a58a9feac02
DTSTAMP:20251216T154516Z
SUMMARY:Student Council - Room 075
URL;VALUE=URI:https://www.dg58.org/he/calendar/8727005/student-council-room
 -075
DTSTART:20260506T202000Z
DTEND:20260506T205500Z
END:VEVENT
END:VCALENDAR
