BEGIN:VCALENDAR
VERSION:2.0
PRODID:SchoolNow
CALSCALE:GREGORIAN
BEGIN:VEVENT
UID:86af4b1e-aaaf-11f0-8acb-0a58a9feac02
DTSTAMP:20251216T154516Z
SUMMARY:Student Council - Room 075
URL;VALUE=URI:https://www.dg58.org/he/calendar/8727001/student-council-room
 -075
DTSTART:20260121T212000Z
DTEND:20260121T215500Z
END:VEVENT
END:VCALENDAR
