BEGIN:VCALENDAR
VERSION:2.0
PRODID:SchoolNow
CALSCALE:GREGORIAN
BEGIN:VEVENT
UID:86af4876-aaaf-11f0-a112-0a58a9feac02
DTSTAMP:20251216T154516Z
SUMMARY:Service Squad - Room 075
URL;VALUE=URI:https://www.dg58.org/he/calendar/8726998/service-squad-room-0
 75
DTSTART:20260414T202000Z
DTEND:20260414T205500Z
END:VEVENT
END:VCALENDAR
