BEGIN:VCALENDAR
VERSION:2.0
PRODID:SchoolNow
CALSCALE:GREGORIAN
BEGIN:VEVENT
UID:86af4790-aaaf-11f0-97eb-0a58a9feac02
DTSTAMP:20251216T154516Z
SUMMARY:Service Squad - Room 075
URL;VALUE=URI:https://www.dg58.org/he/calendar/8726997/service-squad-room-0
 75
DTSTART:20260303T212000Z
DTEND:20260303T215500Z
END:VEVENT
END:VCALENDAR
