BEGIN:VCALENDAR
VERSION:2.0
PRODID:SchoolNow
CALSCALE:GREGORIAN
BEGIN:VEVENT
UID:86af429a-aaaf-11f0-8b1a-0a58a9feac02
DTSTAMP:20251216T154516Z
SUMMARY:Service Squad - Room 075
URL;VALUE=URI:https://www.dg58.org/he/calendar/8726992/service-squad-room-0
 75
DTSTART:20251111T212000Z
DTEND:20251111T215500Z
END:VEVENT
END:VCALENDAR
